BEGIN:VCALENDAR
VERSION:2.0
PRODID:-//United Retirement Advisor Group - ECPv6.15.20//NONSGML v1.0//EN
CALSCALE:GREGORIAN
METHOD:PUBLISH
X-WR-CALNAME:United Retirement Advisor Group
X-ORIGINAL-URL:https://uradvisorgroup.com
X-WR-CALDESC:Events for United Retirement Advisor Group
REFRESH-INTERVAL;VALUE=DURATION:PT1H
X-Robots-Tag:noindex
X-PUBLISHED-TTL:PT1H
BEGIN:VTIMEZONE
TZID:UTC
BEGIN:STANDARD
TZOFFSETFROM:+0000
TZOFFSETTO:+0000
TZNAME:UTC
DTSTART:20190101T000000
END:STANDARD
END:VTIMEZONE
BEGIN:VEVENT
DTSTART;TZID=UTC:20210513T181500
DTEND;TZID=UTC:20210513T204500
DTSTAMP:20260421T140457
CREATED:20210419T135714Z
LAST-MODIFIED:20210419T170138Z
UID:39219-1620929700-1620938700@uradvisorgroup.com
SUMMARY:Women and Retirement
DESCRIPTION:
URL:https://uradvisorgroup.com/event/women-and-retirement/
LOCATION:1800 Tournament Drive Blue Bell\, PA 19422\, 1800 Tournament Drive\, Blue Bell\, PA\, 19422\, United States
CATEGORIES:Events
END:VEVENT
BEGIN:VEVENT
DTSTART;TZID=UTC:20200811T080000
DTEND;TZID=UTC:20200811T170000
DTSTAMP:20260421T140457
CREATED:20180501T195529Z
LAST-MODIFIED:20200721T015537Z
UID:38104-1597132800-1597165200@uradvisorgroup.com
SUMMARY:[Dinner/Lunch] Seminar at [Restaurant]
DESCRIPTION:Event Details
URL:https://uradvisorgroup.com/event/dinner-lunch-seminar-at-restaurant/
LOCATION:Advisors Excel\, 2950 SW McClure Rd\, Topeka\, KS\, 66614\, United States
END:VEVENT
END:VCALENDAR